BEGIN:VCALENDAR
VERSION:2.0
PRODID:-//okswana.org//NONSGML kigkonsult.se iCalcreator 2.30.10//
CALSCALE:GREGORIAN
METHOD:PUBLISH
UID:5b99f405-626c-45fa-8d1c-bb223d1c641e
X-WR-CALDESC:
X-WR-RELCALID:c5a3bb1f383b40b454652ada13a517f5
X-WR-TIMEZONE:America/Chicago
BEGIN:VTIMEZONE
TZID:America/Chicago
BEGIN:STANDARD
TZNAME:CST
DTSTART:20221106T020000
TZOFFSETFROM:-0500
TZOFFSETTO:-0600
RDATE:20231105T020000
END:STANDARD
BEGIN:DAYLIGHT
TZNAME:CDT
DTSTART:20220313T020000
TZOFFSETFROM:-0600
TZOFFSETTO:-0500
RDATE:20230312T020000
RDATE:20240310T020000
END:DAYLIGHT
END:VTIMEZONE
BEGIN:VEVENT
UID:076ff58a-c78d-48a7-a39a-8c2fa5014879
DTSTAMP:20260422T102150Z
DESCRIPTION:
DTSTART;TZID=America/Chicago:20230126T170000
DTEND;TZID=America/Chicago:20230126T183000
LOCATION:
SUMMARY:Young Professional's Happy Hour
END:VEVENT
END:VCALENDAR
