BEGIN:VCALENDAR
VERSION:2.0
PRODID:-//okswana.org//NONSGML kigkonsult.se iCalcreator 2.30.10//
CALSCALE:GREGORIAN
METHOD:PUBLISH
UID:84d4f2b9-f5bc-44ad-9310-64ea2ff27c69
X-WR-CALDESC:Join us for Oklahoma's Premier Waste Management Conference Mar
 ch 28-30.  \nNetwork with Industry Manufacturer's and Colleague's througho
 ut the State. \nMarch 28 - Golf Tournament\nODEQ Waste Exclusion Plan (WEP
 ) Training \n\n<b>Do you or anyone in your organization need CEU credit or
  required WEP training? This conference is for YOU! Please share with your
  peers who may also need these credits!</b>
X-WR-RELCALID:b6883807179115ced5ab9a60c828169d
X-WR-TIMEZONE:America/Chicago
BEGIN:VTIMEZONE
TZID:America/Chicago
BEGIN:STANDARD
TZNAME:CST
DTSTART:20221106T020000
TZOFFSETFROM:-0500
TZOFFSETTO:-0600
RDATE:20231105T020000
END:STANDARD
BEGIN:DAYLIGHT
TZNAME:CDT
DTSTART:20230312T020000
TZOFFSETFROM:-0600
TZOFFSETTO:-0500
RDATE:20240310T020000
END:DAYLIGHT
END:VTIMEZONE
BEGIN:VEVENT
UID:24e7b42e-f6a1-447f-9e74-e91460810b1a
DTSTAMP:20260422T005854Z
DESCRIPTION:Join us for Oklahoma's Premier Waste Management Conference Marc
 h 28-30.  \nNetwork with Industry Manufacturer's and Colleague's throughou
 t the State. \nMarch 28 - Golf Tournament\nODEQ Waste Exclusion Plan (WEP)
  Training \n\n<b>Do you or anyone in your organization need CEU credit or 
 required WEP training? This conference is for YOU! Please share with your 
 peers who may also need these credits!</b>
DTSTART;TZID=America/Chicago:20230328T000000
DTEND;TZID=America/Chicago:20230330T235900
LOCATION:777 W Cherokee St\, Catoosa\, OK 74015 US
SUMMARY:2023 Oklahoma Indian Nations SWANA Conference
END:VEVENT
END:VCALENDAR
