BEGIN:VCALENDAR
VERSION:2.0
PRODID:-//okswana.org//NONSGML kigkonsult.se iCalcreator 2.30.10//
CALSCALE:GREGORIAN
METHOD:PUBLISH
UID:7c69d171-4bd5-4efb-a096-338593b47440
X-WR-CALDESC:Come join other Solid Waste Management professionals for netwo
 rking and fun at the Flashback Retro Pub!
X-WR-RELCALID:2b24979924c69a20034b0e7d88bde6e4
X-WR-TIMEZONE:America/Chicago
BEGIN:VTIMEZONE
TZID:America/Chicago
BEGIN:STANDARD
TZNAME:CST
DTSTART:20231105T020000
TZOFFSETFROM:-0500
TZOFFSETTO:-0600
RDATE:20241103T020000
END:STANDARD
BEGIN:DAYLIGHT
TZNAME:CDT
DTSTART:20230312T020000
TZOFFSETFROM:-0600
TZOFFSETTO:-0500
RDATE:20240310T020000
RDATE:20250309T020000
END:DAYLIGHT
END:VTIMEZONE
BEGIN:VEVENT
UID:ce47e184-2d4a-4ff7-b6b8-a2fe0f0af1b3
DTSTAMP:20260421T150401Z
DESCRIPTION:Come join other Solid Waste Management professionals for networ
 king and fun at the Flashback Retro Pub!
DTSTART;TZID=America/Chicago:20231214T190000
DTEND;TZID=America/Chicago:20231214T210000
LOCATION:814 W. Sheridan Ave.\, Suite A\, Oklahoma City\, OK 73106 US
SUMMARY:Young Professional Event
END:VEVENT
END:VCALENDAR
