BEGIN:VCALENDAR
VERSION:2.0
PRODID:-//okswana.org//NONSGML kigkonsult.se iCalcreator 2.30.10//
CALSCALE:GREGORIAN
METHOD:PUBLISH
UID:795eed69-c383-4dcf-968d-fc3972f08900
X-WR-CALDESC:Join OK SWANA's young professionals at Good Times Patio and Ba
 r on September 26th\, 5PM-7PM\, for our quarterly networking event!
X-WR-RELCALID:3cf9facee81427c6924776847fe62dfa
X-WR-TIMEZONE:America/Chicago
BEGIN:VTIMEZONE
TZID:America/Chicago
BEGIN:STANDARD
TZNAME:CST
DTSTART:20231105T020000
TZOFFSETFROM:-0500
TZOFFSETTO:-0600
RDATE:20241103T020000
RDATE:20251102T020000
END:STANDARD
BEGIN:DAYLIGHT
TZNAME:CDT
DTSTART:20240310T020000
TZOFFSETFROM:-0600
TZOFFSETTO:-0500
RDATE:20250309T020000
RDATE:20260308T020000
END:DAYLIGHT
END:VTIMEZONE
BEGIN:VEVENT
UID:be46e79d-0728-4f80-8398-b99e3728258f
DTSTAMP:20260422T063640Z
DESCRIPTION:Join OK SWANA's young professionals at Good Times Patio and Bar
  on September 26th\, 5PM-7PM\, for our quarterly networking event!
DTSTART;TZID=America/Chicago:20240926T170000
DTEND;TZID=America/Chicago:20240926T190000
LOCATION:1234 N Western Ave\, Oklahoma City\, OK 73106 US
SUMMARY:Young Professional Networking Event
END:VEVENT
END:VCALENDAR
